BEGIN:VCALENDAR
VERSION:2.0
PRODID:-//Scoala CLAS - ECPv4.6.20.1//NONSGML v1.0//EN
CALSCALE:GREGORIAN
METHOD:PUBLISH
X-WR-CALNAME:Scoala CLAS
X-ORIGINAL-URL:http://clasnagov.com
X-WR-CALDESC:Events for Scoala CLAS
BEGIN:VEVENT
DTSTART;VALUE=DATE:20190308
DTEND;VALUE=DATE:20190309
DTSTAMP:20260424T064825
CREATED:20181123T140243Z
LAST-MODIFIED:20190101T191810Z
UID:836-1552003200-1552089599@clasnagov.com
SUMMARY:Ziua Internationala a Femeii
DESCRIPTION:Activitati specifice de ziua mamelor CLAS. \n
URL:http://clasnagov.com/event/ziua-interntionala-a-fmeii/
END:VEVENT
END:VCALENDAR