BEGIN:VCALENDAR
VERSION:2.0
PRODID:-//Scoala CLAS - ECPv4.6.20.1//NONSGML v1.0//EN
CALSCALE:GREGORIAN
METHOD:PUBLISH
X-WR-CALNAME:Scoala CLAS
X-ORIGINAL-URL:http://clasnagov.com
X-WR-CALDESC:Events for Scoala CLAS
BEGIN:VEVENT
DTSTART;TZID=UTC+0:20190115T080000
DTEND;TZID=UTC+0:20190115T170000
DTSTAMP:20260424T133815
CREATED:20181123T135303Z
LAST-MODIFIED:20181123T135303Z
UID:828-1547539200-1547571600@clasnagov.com
SUMMARY:Ziua Culturii Nationale
DESCRIPTION:Recital de poezie – Mihai Eminescu – \,\,Luceafarul poeziei romanesti” \n
URL:http://clasnagov.com/event/ziua-culturii-nationale/
END:VEVENT
END:VCALENDAR