BEGIN:VCALENDAR
VERSION:2.0
PRODID:-//Scoala CLAS - ECPv4.6.20.1//NONSGML v1.0//EN
CALSCALE:GREGORIAN
METHOD:PUBLISH
X-WR-CALNAME:Scoala CLAS
X-ORIGINAL-URL:http://clasnagov.com
X-WR-CALDESC:Events for Scoala CLAS
BEGIN:VEVENT
DTSTART;TZID=UTC+0:20181030T080000
DTEND;TZID=UTC+0:20181103T170000
DTSTAMP:20260424T181703
CREATED:20181123T132625Z
LAST-MODIFIED:20181123T132625Z
UID:814-1540886400-1541264400@clasnagov.com
SUMMARY:Tabara de Halloween la Azuga
DESCRIPTION:Pensiunea Vlad si Iulia- activitati sportive in aer liber si orientare in natura. \n
URL:http://clasnagov.com/event/tabara-de-halloween-la-azuga/
END:VEVENT
END:VCALENDAR