BEGIN:VCALENDAR
VERSION:2.0
PRODID:-//Scoala CLAS - ECPv4.6.20.1//NONSGML v1.0//EN
CALSCALE:GREGORIAN
METHOD:PUBLISH
X-WR-CALNAME:Scoala CLAS
X-ORIGINAL-URL:http://clasnagov.com
X-WR-CALDESC:Events for Scoala CLAS
BEGIN:VEVENT
DTSTART;VALUE=DATE:20190419
DTEND;VALUE=DATE:20190420
DTSTAMP:20260424T032228
CREATED:20181123T141506Z
LAST-MODIFIED:20181123T141506Z
UID:840-1555632000-1555718399@clasnagov.com
SUMMARY:Paste
DESCRIPTION:Vizita la Ferma Cocosu Rosu. \n
URL:http://clasnagov.com/event/paste/
END:VEVENT
END:VCALENDAR