BEGIN:VCALENDAR
VERSION:2.0
PRODID:-//Scoala CLAS - ECPv4.6.20.1//NONSGML v1.0//EN
CALSCALE:GREGORIAN
METHOD:PUBLISH
X-WR-CALNAME:Scoala CLAS
X-ORIGINAL-URL:http://clasnagov.com
X-WR-CALDESC:Events for Scoala CLAS
BEGIN:VEVENT
DTSTART;VALUE=DATE:20180827
DTEND;VALUE=DATE:20180926
DTSTAMP:20260424T201045
CREATED:20180724T063912Z
LAST-MODIFIED:20180724T063937Z
UID:693-1535328000-1537919999@clasnagov.com
SUMMARY:Inscrieri after school si cluburi
DESCRIPTION:Inscrieri after school si cluburi \n
URL:http://clasnagov.com/event/inscrieri-after-school-si-cluburi/
END:VEVENT
END:VCALENDAR