BEGIN:VCALENDAR
VERSION:2.0
PRODID:-//Scoala CLAS - ECPv4.6.20.1//NONSGML v1.0//EN
CALSCALE:GREGORIAN
METHOD:PUBLISH
X-WR-CALNAME:Scoala CLAS
X-ORIGINAL-URL:http://clasnagov.com
X-WR-CALDESC:Events for Scoala CLAS
BEGIN:VEVENT
DTSTART;VALUE=DATE:20181026
DTEND;VALUE=DATE:20181027
DTSTAMP:20260424T195222
CREATED:20181123T133117Z
LAST-MODIFIED:20181123T133117Z
UID:818-1540512000-1540598399@clasnagov.com
SUMMARY:Halloween Party
DESCRIPTION:Activitati tematice bazate pe programa scolara\, dans de Halloween. \n
URL:http://clasnagov.com/event/halloween-party/
END:VEVENT
END:VCALENDAR