BEGIN:VCALENDAR
VERSION:2.0
PRODID:-//Scoala CLAS - ECPv4.6.20.1//NONSGML v1.0//EN
CALSCALE:GREGORIAN
METHOD:PUBLISH
X-WR-CALNAME:Scoala CLAS
X-ORIGINAL-URL:http://clasnagov.com
X-WR-CALDESC:Events for Scoala CLAS
BEGIN:VEVENT
DTSTART;TZID=UTC+0:20180908T100000
DTEND;TZID=UTC+0:20180908T130000
DTSTAMP:20260424T164125
CREATED:20181123T134552Z
LAST-MODIFIED:20181123T134552Z
UID:824-1536400800-1536411600@clasnagov.com
SUMMARY:Festivitate de Deschidere a Noului An Scolar
DESCRIPTION:Scoala\, program de animatie pentru copii\, bufet suedez. \n
URL:http://clasnagov.com/event/festivitate-de-deschidere-a-noului-an-scolar/
END:VEVENT
END:VCALENDAR