BEGIN:VCALENDAR
VERSION:2.0
PRODID:-//Scoala CLAS - ECPv4.6.20.1//NONSGML v1.0//EN
CALSCALE:GREGORIAN
METHOD:PUBLISH
X-WR-CALNAME:Scoala CLAS
X-ORIGINAL-URL:http://clasnagov.com
X-WR-CALDESC:Events for Scoala CLAS
BEGIN:VEVENT
DTSTART;VALUE=DATE:20190603
DTEND;VALUE=DATE:20190604
DTSTAMP:20260423T221648
CREATED:20181123T142814Z
LAST-MODIFIED:20181123T142814Z
UID:846-1559520000-1559606399@clasnagov.com
SUMMARY:Festa della Reppublica Italiana
DESCRIPTION:Activitati in limba italiana. \n
URL:http://clasnagov.com/event/festa-della-reppublica-italiana/
END:VEVENT
END:VCALENDAR