BEGIN:VCALENDAR
VERSION:2.0
PRODID:-//Scoala CLAS - ECPv4.6.20.1//NONSGML v1.0//EN
CALSCALE:GREGORIAN
METHOD:PUBLISH
X-WR-CALNAME:Scoala CLAS
X-ORIGINAL-URL:http://clasnagov.com
X-WR-CALDESC:Events for Scoala CLAS
BEGIN:VEVENT
DTSTART;TZID=UTC+0:20190527T080000
DTEND;TZID=UTC+0:20190531T170000
DTSTAMP:20260424T013636
CREATED:20181123T142342Z
LAST-MODIFIED:20181123T142342Z
UID:842-1558944000-1559322000@clasnagov.com
SUMMARY:Evaluare Nationala clasa a- II-a
DESCRIPTION:
URL:http://clasnagov.com/event/evaluare-nationala-clasa-a-ii-a/
END:VEVENT
END:VCALENDAR