BEGIN:VCALENDAR
VERSION:2.0
PRODID:-//Scoala CLAS - ECPv4.6.20.1//NONSGML v1.0//EN
CALSCALE:GREGORIAN
METHOD:PUBLISH
X-WR-CALNAME:Scoala CLAS
X-ORIGINAL-URL:http://clasnagov.com
X-WR-CALDESC:Events for Scoala CLAS
BEGIN:VEVENT
DTSTART;VALUE=DATE:20181005
DTEND;VALUE=DATE:20181006
DTSTAMP:20260424T201413
CREATED:20181123T133432Z
LAST-MODIFIED:20181123T133432Z
UID:820-1538697600-1538783999@clasnagov.com
SUMMARY:Education Day
DESCRIPTION:Scoala – activitati de apreciere a dascalilor. \n
URL:http://clasnagov.com/event/education-day/
END:VEVENT
END:VCALENDAR